BEGIN:VCALENDAR
VERSION:2.0
PRODID:-//Kendal Mountaineering Club - ECPv6.15.20//NONSGML v1.0//EN
CALSCALE:GREGORIAN
METHOD:PUBLISH
X-WR-CALNAME:Kendal Mountaineering Club
X-ORIGINAL-URL:https://kendalmc.org
X-WR-CALDESC:Events for Kendal Mountaineering Club
REFRESH-INTERVAL;VALUE=DURATION:PT1H
X-Robots-Tag:noindex
X-PUBLISHED-TTL:PT1H
BEGIN:VTIMEZONE
TZID:Europe/London
BEGIN:DAYLIGHT
TZOFFSETFROM:+0000
TZOFFSETTO:+0100
TZNAME:BST
DTSTART:20250330T010000
END:DAYLIGHT
BEGIN:STANDARD
TZOFFSETFROM:+0100
TZOFFSETTO:+0000
TZNAME:GMT
DTSTART:20251026T010000
END:STANDARD
BEGIN:DAYLIGHT
TZOFFSETFROM:+0000
TZOFFSETTO:+0100
TZNAME:BST
DTSTART:20260329T010000
END:DAYLIGHT
BEGIN:STANDARD
TZOFFSETFROM:+0100
TZOFFSETTO:+0000
TZNAME:GMT
DTSTART:20261025T010000
END:STANDARD
BEGIN:DAYLIGHT
TZOFFSETFROM:+0000
TZOFFSETTO:+0100
TZNAME:BST
DTSTART:20270328T010000
END:DAYLIGHT
BEGIN:STANDARD
TZOFFSETFROM:+0100
TZOFFSETTO:+0000
TZNAME:GMT
DTSTART:20271031T010000
END:STANDARD
END:VTIMEZONE
BEGIN:VEVENT
DTSTART;TZID=Europe/London:20260505T160000
DTEND;TZID=Europe/London:20260505T220000
DTSTAMP:20260419T190906
CREATED:20260223T175348Z
LAST-MODIFIED:20260223T175756Z
UID:616-1777996800-1778018400@kendalmc.org
SUMMARY:Oxenber
DESCRIPTION:Pleasant west-facing crag with worthwhile rock and outlook toward Austwick; likely new venue for the club.
URL:https://kendalmc.org/meet/oxenber-2/
CATEGORIES:Evening
END:VEVENT
BEGIN:VEVENT
DTSTART;TZID=Europe/London:20260512T160000
DTEND;TZID=Europe/London:20260512T220000
DTSTAMP:20260419T190906
CREATED:20260223T175757Z
LAST-MODIFIED:20260223T175757Z
UID:641-1778601600-1778623200@kendalmc.org
SUMMARY:Kirkstone Buttress
DESCRIPTION:Single-pitch crag 10 minutes from Red Screes car park at top of Kirkstone Pass; good outlook; easy parking and short walk; OS ref NY400085.
URL:https://kendalmc.org/meet/kirkstone-buttress-5/
CATEGORIES:Evening
END:VEVENT
BEGIN:VEVENT
DTSTART;TZID=Europe/London:20260516T090000
DTEND;TZID=Europe/London:20260516T190000
DTSTAMP:20260419T190906
CREATED:20260223T175757Z
LAST-MODIFIED:20260223T175757Z
UID:642-1778922000-1778958000@kendalmc.org
SUMMARY:Raven Crag\, Langdale
DESCRIPTION:Great venue for a club day; wide variety of routes with many in Severe and VS grades; classic venue.
URL:https://kendalmc.org/meet/raven-crag-langdale-5/
CATEGORIES:Saturday
END:VEVENT
BEGIN:VEVENT
DTSTART;TZID=Europe/London:20260519T160000
DTEND;TZID=Europe/London:20260519T220000
DTSTAMP:20260419T190906
CREATED:20260223T175757Z
LAST-MODIFIED:20260223T175757Z
UID:643-1779206400-1779228000@kendalmc.org
SUMMARY:Runestone Quarry
DESCRIPTION:Overlooks Little Langdale Tarn; many bolted routes with reasonable number around grade 5 and plenty above.
URL:https://kendalmc.org/meet/runestone-quarry-3/
CATEGORIES:Evening
END:VEVENT
BEGIN:VEVENT
DTSTART;TZID=Europe/London:20260526T160000
DTEND;TZID=Europe/London:20260526T220000
DTSTAMP:20260419T190906
CREATED:20260223T175757Z
LAST-MODIFIED:20260223T175757Z
UID:644-1779811200-1779832800@kendalmc.org
SUMMARY:Gouther Crag\, Swindale
DESCRIPTION:Lovely valley crag with fine routes across two main buttresses; reasonable number of lower-grade routes. Beware midges.
URL:https://kendalmc.org/meet/gouther-crag-swindale-5/
CATEGORIES:Evening
END:VEVENT
END:VCALENDAR